BEGIN:VCALENDAR
VERSION:2.0
PRODID:-//KT Canada - ECPv6.15.20//NONSGML v1.0//EN
CALSCALE:GREGORIAN
METHOD:PUBLISH
X-WR-CALNAME:KT Canada
X-ORIGINAL-URL:https://ktcanada.org
X-WR-CALDESC:Events for KT Canada
REFRESH-INTERVAL;VALUE=DURATION:PT1H
X-Robots-Tag:noindex
X-PUBLISHED-TTL:PT1H
BEGIN:VTIMEZONE
TZID:America/Toronto
BEGIN:DAYLIGHT
TZOFFSETFROM:-0500
TZOFFSETTO:-0400
TZNAME:EDT
DTSTART:20180311T070000
END:DAYLIGHT
BEGIN:STANDARD
TZOFFSETFROM:-0400
TZOFFSETTO:-0500
TZNAME:EST
DTSTART:20181104T060000
END:STANDARD
BEGIN:DAYLIGHT
TZOFFSETFROM:-0500
TZOFFSETTO:-0400
TZNAME:EDT
DTSTART:20190310T070000
END:DAYLIGHT
BEGIN:STANDARD
TZOFFSETFROM:-0400
TZOFFSETTO:-0500
TZNAME:EST
DTSTART:20191103T060000
END:STANDARD
BEGIN:DAYLIGHT
TZOFFSETFROM:-0500
TZOFFSETTO:-0400
TZNAME:EDT
DTSTART:20200308T070000
END:DAYLIGHT
BEGIN:STANDARD
TZOFFSETFROM:-0400
TZOFFSETTO:-0500
TZNAME:EST
DTSTART:20201101T060000
END:STANDARD
END:VTIMEZONE
BEGIN:VEVENT
DTSTART;VALUE=DATE:20190530
DTEND;VALUE=DATE:20190601
DTSTAMP:20260422T230028
CREATED:20180817T165126Z
LAST-MODIFIED:20191010T143849Z
UID:3708-1559174400-1559347199@ktcanada.org
SUMMARY:KT Canada Scientific Meeting 2019
DESCRIPTION:  \n  \n \n  \nConference InformationGuest SpeakersRegistration & Hotel BookingSubmit an abstractAgendaProgramSponsors \nThe 2019 KT Canada Annual Scientific Meeting is being held on May 30th and 31st in Winnipeg\, Manitoba at the Delta Hotel. \nThe theme is ‘Advancing the science of integrated knowledge translation’ \nWe will be posting additional information as it becomes available. For questions please contact Meghan Storey: storeym@smh.ca. \n  \nAdditional Information\nWorkshop Materials: Activity Booklet and Resource Booklet \nFloor Plan: Delta Winnipeg \nOpening Ceremony \n  \n\nKeynotes:\nDr. Anita Kothari\, Western University \nAnita Kothari is an Associate Professor in the School of Health Studies at the University of Western Ontario. Her research focuses on understanding how to best support the use of research and knowledge in healthcare decision-making; within this domain\, she concentrates on integrated knowledge translation (i.e.\, research co-production) particularly in public health systems and services. Her academic background involved training in health research methodology\, population health\, and health policy and services. She is a member of the College of the Royal Society of Canada. \n  \n  \nDr. Ian Graham\, University of Ottawa \nIan Graham\, PhD\, FCAHS\, FNYAM\, FRSC is a Professor in the School of Epidemiology and Public Health at the University of Ottawa and a Senior Scientist at the Centre for Practice-Changing Research at the Ottawa Hospital Research Institute. From 2006 to 2012 he was seconded to the position of Vice President of Knowledge Translation at the Canadian Institutes of Health Research. His research program focuses on understanding how engaging patients and other stakeholders in the research process (known as integrated knowledge translation) works and the impact it produces. He is co-originator of the Ottawa Model of Research Use; the Practice Guideline Evaluation and Adaptation Cycle; the Knowledge to Action framework; and a founding member of the international ADAPTE collaboration. \n  \nPanelists:\nDr. Ahmed Abou-Setta\, University of Manitoba \nDr. Abou-Setta is Director of Knowledge Synthesis\, George and Fay Yee Centre for Healthcare Innovation (University of Manitoba) and Manitoba SPOR SUPPORT Unit. He leads and supports patient-oriented research including clinical practice guidelines\, systematic reviews\, and overviews of reviews. His work has been featured in JAMA\, BMJ\, CMAJ\, Annals of Internal Medicine\, Cochrane and WHO publications. In addition\, Dr. Abou-Setta is leading innovative research into methods for improving and streamlining the systematic review process. Furthermore\, Dr. Abou-Setta is regularly involved in training of students and clinical professionals through an array of consultations\, teaching\, and collaborative research on knowledge synthesis projects. \n  \nCarolyn Shimmin\, University of Manitoba \nCarolyn Shimmin is the Patient and Public Engagement Lead at the George and Fay Yee Centre for Healthcare Innovation (CHI)\, Manitoba’s SPOR SUPPORT Unit. In this role\, she is responsible for all patient/public engagement in health research programs and services offered at the Centre\, including the PE Lunchtime Learning Series\, the PE Champions Program\, the Funding Award to Support Patient/Public Engagement in Health Research\, and the CHI Patient Engagement Collaborative Partnership. With a bachelor’s degree combined honours in journalism and political science and a masters degree in gender studies\, Carolyn is a big proponent of using a social justice and health equity lens in patient/public engagement and writes and speaks about the importance of incorporating a trauma-informed intersectional analysis in order to build truly inclusive and safe spaces within patient and public engagement in health research. \n  \nDr. Charmayne Dubé\, University of Manitoba \nDr. Charmayne Dubé has been employed in the field of intellectual disabilities for 30 years and continues to be passionate about improving quality of services and ultimately\, quality of life for individuals who are supported in the community. She is the Senior Director of Resource Services within New Directions\, a non-profit organization\, and an Adjunct Professor in the Department of Occupational Therapy\, College of Rehabilitation Sciences in Manitoba. \nDr. Dubé completed an undergraduate degree in Medical Rehabilitation (Occupational Therapy)\, a Master of Science (Family Social Sciences) degree\, and her Doctoral program in Applied Health Sciences through the University of Manitoba. \n  \nDr. David Johnson\, University of Calgary \nDr. David Johnson is: Senior Medical Director for the Alberta Health Services Maternal\, Neonatal\, Child and Youth Strategic Clinical Network; a pediatric emergency physician and medical toxicologist; and a Professor of Pediatrics\, Emergency Medicine\, and Physiology and Pharmacology in the Cummings School of Medicine\, University of Calgary. His research interests are primarily focused on the management of common childhood respiratory emergencies\, and ensuring primary health care professionals utilize ‘best evidence’ in managing these diseases. \n  \nDr. Joyce Dogba\, Laval University \nDr. Joyce Dogba is trained as a physician in Togo. She holds a Master degree in health economics and a PhD in Public Health. She is currently an assistant professor in the Department of Family and Emergency Medicine at Laval University. Her research agenda comprises evaluation of collaborative practices with patients-users in research and the education of health professionals. She is also interested in advancing stakeholders engagement science regarding how to meaningfully involve the underserved including immigrants in patient-oriented research. Joyce Dogba is a co-lead on patient engagement within the SRAP/SPOR Network in Diabetes and Related Complications. \n  \nDr. Michelle Driedger\, University of Manitoba \nS. Michelle Driedger is a Professor in the Department of Community Health Sciences at the University of Manitoba and a proud member of the Manitoba Metis nation. Her broad areas of research interests include risk communication in primary care and public health\, risk perception\, and knowledge translation under conditions of uncertainty. Drawing primarily on qualitative and participatory methods\, she is particularly interested in how risk communicators can meaningfully engage public audiences to enable informed decisions about health recommendations\, including protective behaviours\, that can be adopted for themselves and their family.  Her research explores these aspects with both general population and Metis contexts. She has some current funded studies looking at vaccine hesitancy\, health priorities of Indigenous youth\, and patient-provider communication around non-recommended tests and procedures \n  \nDr. Julianne Sanguins \nJulianne Sanguins is the Research Program Manager in the Health & Wellness Department at the Manitoba Metis Federation\, an Assistant Professor in the University of Manitoba’s Department of Community Health Sciences\, and an Adjunct Scientist with the Manitoba Centre for Health Policy. Julianne is an RN and holds a PhD in Nursing.  The Research Program Manager with the Manitoba Metis Federation-Health & Wellness Department (MMF-HWD) since 2006\, she has been involved in numerous studies in which the aim has been to develop knowledge of the health of Metis in Manitoba.  As part of a dedicated team of researchers\, they conducted the first population-based provincial study that compared the health of Metis to all others Manitobans.  The two-year study (known as the Metis Atlas) was funded by Manitoba Health and was published in June 2010.  As a result of that study provincial chronic disease surveillance program of the Metis population was launched.  The Metis Atlas has also identified new areas of research and several qualitative and quantitative studies have been completed.  Moreover\, the study provided quantitative evidence for health policy planning and program adaptation. She continues to work with the Manitoba Metis Federation Health & Wellness Department managing all aspects of the academic needs of studies\, including directly supervising research staff. \n  \nThomas Beaudry\, Collaborator – Patient/Caregiver in Patient Engagement & Knowledge Translation; George & Fay Yee\, Centre for Healthcare Innovation \nResiding in Winnipeg\, Manitoba\, a proud Indigenous man; a proud father of three\, two young men and a young woman\, and a mishoom of 2 boys. A graduate of the Centre for Indigenous Environmental Resources (CIER)\, with a certificate in Environmental Protection\, with the focus on environmental-related issues concerning Indigenous peoples and communities. \nHealth of the land is inseparable from the health of the people and vice versa. A healthy environment\, such as water\, ensures healthy people.  \nA goal of his is the collaboration between environmental and healthcare fields\, by being a “bridge\,” a facilitator in these fields and with Indigenous people in order to assist with creating a way for healthy people and communities. \n  \nMargo Powell\, Abilities Manitoba \nIn March 2015\, Margo Powell assumed the role of Executive Director at Abilities Manitoba. \nMargo began working in the disability sector in the early 1990’s. She has worked for small and large community organizations both in Winnipeg and rurally. Her experience also includes running a provincial organization. \nMargo is a proud alumni of the Disability and Community Support Program at RRC and has her degree in Community Rehabilitation and Disability Studies from the University of Calgary. Her experience also includes teaching the Foundations Course for RRC and sitting on the original Staffing Stabilization Committee. She was also the community representative on the MDC transition team 10 years ago and has taught Vulnerable Person’s Act training. Margo is passionate about inclusion\, equality\, community living and quality of life. \n  Registration is now open for the 2019 KT Canada Scientific Meeting!\n  \nFees\nRegular:  $650 \nStudents & Fellows:  $350 \nPatients and Caregivers: Please contact Meghan directly: StoreyM@smh.ca \nThe deadline to register is May 27th. \n  \nRegister here:  https://www.eventbrite.com/e/kt-canada-scientific-meeting-2019-tickets-54718234713 \n  \nVenue/ Hotel Information\nYou may book a room at the Delta Hotel by Marriott by using this link. \n  \nPlease note that you must use the above link in order to get the conference room rate. \n  \nYou must book your room before April 30th in order to receive the conference room rate.  If you receive a message of “No availability” – please call the toll-free number\, 1-844-294-7309\, to speak with a reservation agent\, who should be able to help accommodate. \n  \nThe KT Canada Scientific Meeting is being held at the Delta Hotel by Marriott on the 30-31 of May 2019. \n  \nHotel website: Delta Hotel by Marriott \nHotel Address: 350 St Mary Avenue\, Winnipeg R3C 3J2 Canada \nPhone: 1 204-942-0551 \n  \n‘Whether traveling for leisure or business\, Delta Hotels Winnipeg ensures your desires are accommodated for.  With a location in the heart of downtown and a connection to the city’s skybridge\, out hotel makes it easy to access RBC Convention Centre and BellMTS Place.  Spend time shopping at Polo Park\, or feed your love of the arts at the Royal Winnipeg Ballet.  End your day of adventures in our rooms and suites boasting pillowtop beds.  The balance of work and play is perfected with our free high-speed Wi-Fi\, wall-mounted TVs and large ergonomic desks.  In the morning\, be sure to visit Urban Bean\, our coffeehouse featuring Starbucks® drinks.  Savour a healthy\, hearty meal and cocktail at Blaze Restaurant & Lounge.  In your free time\, work out at our Odyssey Fitness Center with cardio equipment\, enjoy a scenic swim in our rooftop pool or make a splash any time of the year at our indoor pool.  Visit Manitoba’s capital city for work or fun and let Delta Hotels Winnipeg exceed your expectations every season.’ \n  \nOther hotels in the area: The Alt Hotel and the Radisson are alternate options which are walking distance to the Delta. \nAlt hotel: https://www.althotels.com/en/winnipeg/ \nRadisson: https://www.radisson.com/winnipeg-hotel-mb-r3c0b8/mbwinnip?s_cid=os.amer-ca-rad-MBWINNIP-gmb \nThe Fairmont and Fort Garry are also not too far away: \nFairmont: https://www.fairmont.com/winnipeg/ \nFort Garry: https://www.fortgarryhotel.com/ \n  \n  \nAccessibility\nFor more information\, please call the general manager of the hotel: +1 204-942-0551 \n  \nAccessible guest rooms have 32 inch wide opening \nAdjustable height hand-held shower wand \nBathroom vanity in guest rooms for lower heights \nBathtub grab bars \nBathtub seat \nClosed-caption TV \nFlashing door knocker available \nGrab bars in bathroom \nHotel has on site accessible self-parking \nLowered electrical outlets \n*No transfer showers available \nRoute to accessible guest rooms is accessible \nSelf-operating lifts or sloped entry \nService animals allowed for persons with disabilities \nTTY/TTD compatible \nTelephone for hearing impaired \nToilet seat in guest rooms \nRoll-in shower \n  \nRoom Cancellation Policy\nGuests have 48 hours prior to arrival date to cancel or make any changes to their reservation without penalty to their credit card.  Should they not cancel and not arrive\, then 1st nights room and taxes will be billed to their credit card number as a no show charge. \n  \nCatering\nBreakfast and lunch as well as snacks and refreshments during breaks are provided for all attendees on 30-31 May. \n  \nParking\nOff-site parking\, fee: 20 CAD daily \nOn-site parking\, fee: 18 CAD daily \nValet parking\, fee: 24 CAD daily \nOnsite garage clearance 1.8 meters-contact hotel for large vehicle options/Offsite parking at RBC Convention Centre. \n  Abstract submission is now closed. The agenda for the Scientific Meeting can be found here. \n  The full program can be found here.   \n  \n  \n  \n \n  \n  \n  \n  \n  \n \n 
URL:https://ktcanada.org/event/kt-canada-scientific-meeting-2019/
LOCATION:Winnipeg\, Manitoba
ATTACH;FMTTYPE=image/jpeg:https://ktcanada.org/wp-content/uploads/2018/10/KTCanadaScientificMeeting.jpg
END:VEVENT
END:VCALENDAR