BEGIN:VCALENDAR
VERSION:2.0
PRODID:-//KT Canada - ECPv6.15.20//NONSGML v1.0//EN
CALSCALE:GREGORIAN
METHOD:PUBLISH
X-WR-CALNAME:KT Canada
X-ORIGINAL-URL:https://ktcanada.org
X-WR-CALDESC:Events for KT Canada
REFRESH-INTERVAL;VALUE=DURATION:PT1H
X-Robots-Tag:noindex
X-PUBLISHED-TTL:PT1H
BEGIN:VTIMEZONE
TZID:America/Toronto
BEGIN:DAYLIGHT
TZOFFSETFROM:-0500
TZOFFSETTO:-0400
TZNAME:EDT
DTSTART:20160313T070000
END:DAYLIGHT
BEGIN:STANDARD
TZOFFSETFROM:-0400
TZOFFSETTO:-0500
TZNAME:EST
DTSTART:20161106T060000
END:STANDARD
BEGIN:DAYLIGHT
TZOFFSETFROM:-0500
TZOFFSETTO:-0400
TZNAME:EDT
DTSTART:20170312T070000
END:DAYLIGHT
BEGIN:STANDARD
TZOFFSETFROM:-0400
TZOFFSETTO:-0500
TZNAME:EST
DTSTART:20171105T060000
END:STANDARD
BEGIN:DAYLIGHT
TZOFFSETFROM:-0500
TZOFFSETTO:-0400
TZNAME:EDT
DTSTART:20180311T070000
END:DAYLIGHT
BEGIN:STANDARD
TZOFFSETFROM:-0400
TZOFFSETTO:-0500
TZNAME:EST
DTSTART:20181104T060000
END:STANDARD
END:VTIMEZONE
BEGIN:VEVENT
DTSTART;TZID=America/Toronto:20171016T090000
DTEND;TZID=America/Toronto:20171017T170000
DTSTAMP:20260424T033437
CREATED:20170725T185925Z
LAST-MODIFIED:20170725T185925Z
UID:2281-1508144400-1508259600@ktcanada.org
SUMMARY:Knowledge Translation (KT) Basics
DESCRIPTION:Knowledge translation (KT) is a bridge between research and real-world practice in an effort to strengthen health systems and improve health outcomes. But how do you apply evidence? At the KT Program\, we believe that we can implement change in the health system better by thinking about change differently. Our approach to KT is rooted in theory and science\, but our application of KT is uniquely pragmatic and focused on real-world impact. Our approach to training involves empowering individuals and organizations in the health system with knowledge and support on how to do KT. \nWorkshop OverviewRegistration InformationApplication Instructions\nKnowledge Translation (KT) Basics is a 2-day workshop on the fundamentals of implementing change using best practices in KT. In KT Basics\, participants will learn how to: \n\nIdentify key KT definitions\nAssess and prioritize implementation needs\nUse appropriate methods to assess the quality of available evidence\nDefine the scope of change and ideal practices to be implemented\nIdentify key processes that inform the selection of implementation strategies\n\nThis workshop will benefit anyone interested in learning more about how KT can be applied to their own work. Professionals and full-time graduate students involved in all dimensions of health (e.g.\, acute care\, long-term care\, public health\, mental health\, etc.) are welcome to attend. \nNote: this workshop will not focus on best practices in disseminating evidence/end-of-grant KT. \n  \nIf you would like to discuss whether this workshop aligns with your learning goals and needs\, please contact Melissa Courvoisier. Dates and Location\nDates: October 16 & 17\, 2017 9:00 a.m. – 5:00 p.m. ET \nLocation: Li Ka Shing Knowledge Institute at St. Michael’s Hospital\, Toronto\, Canada \n  \nCost\nRegistration for the KT Basics workshop is $850.00 CAD per person. \nThere are a limited number of spots reserved for students. Registration for full-time graduate students is $425.00 CAD per person. \nThe cost includes participation in the 2-day in-person workshop\, food (coffee/tea\, snacks\, and lunch)\, and access to take-home resources. Travel to and from Toronto and accommodation during the workshop is not included. \n  \n  \n  To apply\, please fill out the KT Basics workshop application form on the KT Basics website. \nApplication deadline: August 18\, 2017 11:59 PM ET \n  \n 
URL:https://ktcanada.org/event/knowledge-translation-kt-basics/
LOCATION:Li Ka Shing Knowledge Institute\, 209 Victoria St\, Toronto\, ON M5B 1T8\, Toronto\, ON\, m5b 1b4\, Canada
END:VEVENT
END:VCALENDAR