BEGIN:VCALENDAR
VERSION:2.0
PRODID:-//KT Canada - ECPv6.15.20//NONSGML v1.0//EN
CALSCALE:GREGORIAN
METHOD:PUBLISH
X-WR-CALNAME:KT Canada
X-ORIGINAL-URL:https://ktcanada.org
X-WR-CALDESC:Events for KT Canada
REFRESH-INTERVAL;VALUE=DURATION:PT1H
X-Robots-Tag:noindex
X-PUBLISHED-TTL:PT1H
BEGIN:VTIMEZONE
TZID:America/Toronto
BEGIN:DAYLIGHT
TZOFFSETFROM:-0500
TZOFFSETTO:-0400
TZNAME:EDT
DTSTART:20150308T070000
END:DAYLIGHT
BEGIN:STANDARD
TZOFFSETFROM:-0400
TZOFFSETTO:-0500
TZNAME:EST
DTSTART:20151101T060000
END:STANDARD
BEGIN:DAYLIGHT
TZOFFSETFROM:-0500
TZOFFSETTO:-0400
TZNAME:EDT
DTSTART:20160313T070000
END:DAYLIGHT
BEGIN:STANDARD
TZOFFSETFROM:-0400
TZOFFSETTO:-0500
TZNAME:EST
DTSTART:20161106T060000
END:STANDARD
BEGIN:DAYLIGHT
TZOFFSETFROM:-0500
TZOFFSETTO:-0400
TZNAME:EDT
DTSTART:20170312T070000
END:DAYLIGHT
BEGIN:STANDARD
TZOFFSETFROM:-0400
TZOFFSETTO:-0500
TZNAME:EST
DTSTART:20171105T060000
END:STANDARD
END:VTIMEZONE
BEGIN:VEVENT
DTSTART;TZID=America/Toronto:20161013T120000
DTEND;TZID=America/Toronto:20161013T130000
DTSTAMP:20260424T223458
CREATED:20160921T195124Z
LAST-MODIFIED:20160922T191515Z
UID:1607-1476360000-1476363600@ktcanada.org
SUMMARY:KT Canada National Seminar Series – October 2016
DESCRIPTION:kt-canada-national-seminar-series_october_2016_v2
URL:https://ktcanada.org/event/kt-canada-national-seminar-series-october-2016/
ATTACH;FMTTYPE=image/jpeg:https://ktcanada.org/wp-content/uploads/2016/09/KT-Canada-National-Seminar-Series_October_2016_v2.jpg
END:VEVENT
END:VCALENDAR