BEGIN:VCALENDAR
VERSION:2.0
PRODID:-//KT Canada - ECPv6.15.20//NONSGML v1.0//EN
CALSCALE:GREGORIAN
METHOD:PUBLISH
X-WR-CALNAME:KT Canada
X-ORIGINAL-URL:https://ktcanada.org
X-WR-CALDESC:Events for KT Canada
REFRESH-INTERVAL;VALUE=DURATION:PT1H
X-Robots-Tag:noindex
X-PUBLISHED-TTL:PT1H
BEGIN:VTIMEZONE
TZID:America/Toronto
BEGIN:DAYLIGHT
TZOFFSETFROM:-0500
TZOFFSETTO:-0400
TZNAME:EDT
DTSTART:20150308T070000
END:DAYLIGHT
BEGIN:STANDARD
TZOFFSETFROM:-0400
TZOFFSETTO:-0500
TZNAME:EST
DTSTART:20151101T060000
END:STANDARD
BEGIN:DAYLIGHT
TZOFFSETFROM:-0500
TZOFFSETTO:-0400
TZNAME:EDT
DTSTART:20160313T070000
END:DAYLIGHT
BEGIN:STANDARD
TZOFFSETFROM:-0400
TZOFFSETTO:-0500
TZNAME:EST
DTSTART:20161106T060000
END:STANDARD
BEGIN:DAYLIGHT
TZOFFSETFROM:-0500
TZOFFSETTO:-0400
TZNAME:EDT
DTSTART:20170312T070000
END:DAYLIGHT
BEGIN:STANDARD
TZOFFSETFROM:-0400
TZOFFSETTO:-0500
TZNAME:EST
DTSTART:20171105T060000
END:STANDARD
END:VTIMEZONE
BEGIN:VEVENT
DTSTART;TZID=America/Toronto:20160908T120000
DTEND;TZID=America/Toronto:20160908T130000
DTSTAMP:20260425T000458
CREATED:20160831T144748Z
LAST-MODIFIED:20160831T150645Z
UID:1575-1473336000-1473339600@ktcanada.org
SUMMARY:KT Canada National Seminar Series - September 2016
DESCRIPTION:KT Canada Presents: Jeremy Grimshaw\n\n  \nTitle: \nIncreasing value and reducing waste in knowledge translation and implementation research \n  \n  \nLearning Objectives: \n\nTo introduce the concept of research waste which limits value and progress of current research\nTo understand sources of waste in knowledge translation and implementation research\nTo discuss potential solutions to reduce waste in knowledge translation and implementation research.\n\n  \n  \nJeremy Grimshaw received a MBChB from the University of Edinburgh\, UK. He trained as a family physician prior to undertaking a PhD in health services research at the University of Aberdeen. He moved to Canada in 2002. His research focuses on the evaluation of interventions to disseminate and implement evidence-based practice. Jeremy is: a Senior Scientist in the Clinical Epidemiology Program\, Ottawa Health Research Institute; a Full Professor in the Department of Medicine\, University of Ottawa and a Tier 1 Canada Research Chair in Health Knowledge Transfer and Uptake. He is a Corresponding Fellow of the Royal Society of Edinburgh. \n  \nTime:  \n13:00 – 14:00 AT \n12:00 – 13:00 ET \n11:00 – 12:00 CT \n10:00 – 11:00 MT \n9:00 – 10:00 PT \n  \nBroadcasting Locations: \nTo view broadcasting locations\, click here. \n  \nTo Register:  \nThis session is offered by WEBEX from St. Michael’s Hospital in Toronto. All registration requests must be sent to Gail Klein: KleinG@smh.ca by Wednesday\, September 7th at 12:00 PM ET. \nTo register a site: please identify one person who will be in attendance and provide their email address to Gail Klein. To register as an individual; please email Gail Klein. \nPLEASE NOTE THAT EVERYONE MUST REGISTER TO ATTEND AS YOU NEED TO BE INVITED INTO THE WEBEX SESSION. \nTechnical requirements: You need a computer with Google Chrome and a telephone or computer microphone or headset. \n  \nQuestions? \nTo add a site and for more information\, please contact Gail Klein: KleinG@smh.ca
URL:https://ktcanada.org/event/kt-canada-national-seminar-series-september-2016/
ATTACH;FMTTYPE=image/png:https://ktcanada.org/wp-content/uploads/2016/03/KT_Canada_National_Seminar_Series_April_2016.png
END:VEVENT
END:VCALENDAR